BEGIN:VCALENDAR
VERSION:2.0
PRODID:-//jEvents 1.5 for Joomla//EN
CALSCALE:GREGORIAN
METHOD:PUBLISH
BEGIN:VEVENT

UID:01f0c36f6b27dd6986d59e6e252f9141
CATEGORIES:Default
SUMMARY:Women of The Church Rummage Sale
LOCATION:
DESCRIPTION;ENCODING=QUOTED-PRINTABLE:

DTSTAMP:20260423T133122Z
DTSTART:20160521T080000Z
DTEND:20160521T235959Z
SEQUENCE:0
TRANSP:OPAQUE
END:VEVENT
END:VCALENDAR