BEGIN:VCALENDAR
VERSION:2.0
PRODID:-//jEvents 1.5 for Joomla//EN
CALSCALE:GREGORIAN
METHOD:PUBLISH
BEGIN:VEVENT

UID:f94325c9a2e5c266930abbe15cd7f665
CATEGORIES:Default
SUMMARY:VBS
LOCATION:United Congregational Church, UCC
DESCRIPTION;ENCODING=QUOTED-PRINTABLE:

DTSTAMP:20260423T081843Z
DTSTART:20160601T173000Z
DTEND:20160601T200000Z
SEQUENCE:0
RRULE:FREQ=DAILY;COUNT=2;INTERVAL=1
TRANSP:OPAQUE
END:VEVENT
END:VCALENDAR