BEGIN:VCALENDAR
VERSION:2.0
PRODID:-//jEvents 1.5 for Joomla//EN
CALSCALE:GREGORIAN
METHOD:PUBLISH
BEGIN:VEVENT

UID:429ad1fb4a1630f3facd5fd955c4db67
CATEGORIES:Default
SUMMARY:Mental Illness/Suicide Support Group
LOCATION:
DESCRIPTION;ENCODING=QUOTED-PRINTABLE:

DTSTAMP:20260423T061751Z
DTSTART:20160731T163000Z
DTEND:20160731T235959Z
SEQUENCE:0
TRANSP:OPAQUE
END:VEVENT
END:VCALENDAR