BEGIN:VCALENDAR
VERSION:2.0
PRODID:-//jEvents 1.5 for Joomla//EN
CALSCALE:GREGORIAN
METHOD:PUBLISH
BEGIN:VEVENT

UID:da26115fdfb1587f7aac07c965464042
CATEGORIES:Default
SUMMARY:Relay for Life Fundraiser-Pizza Ranch
LOCATION:Pizza Ranch
DESCRIPTION;ENCODING=QUOTED-PRINTABLE:

DTSTAMP:20260422T232404Z
DTSTART:20160725T170000Z
DTEND:20160725T193000Z
SEQUENCE:0
TRANSP:OPAQUE
END:VEVENT
END:VCALENDAR