BEGIN:VCALENDAR
VERSION:2.0
PRODID:-//jEvents 1.5 for Joomla//EN
CALSCALE:GREGORIAN
METHOD:PUBLISH
BEGIN:VEVENT

UID:2b2cb20fb6f536c7ff5d9a3c9c8ad3bb
CATEGORIES:Default
SUMMARY:Pastor Keith gone
LOCATION:
DESCRIPTION;ENCODING=QUOTED-PRINTABLE:

DTSTAMP:20260422T195735Z
DTSTART:20160619T080000Z
DTEND:20160622T170000Z
SEQUENCE:0
TRANSP:OPAQUE
END:VEVENT
END:VCALENDAR