BEGIN:VCALENDAR
VERSION:2.0
PRODID:-//jEvents 1.5 for Joomla//EN
CALSCALE:GREGORIAN
METHOD:PUBLISH
BEGIN:VEVENT

UID:1668d1a6bd5cc4c7bd879ec546393a17
CATEGORIES:Default
SUMMARY:COM Meeting
LOCATION:Chamberlain
DESCRIPTION;ENCODING=QUOTED-PRINTABLE:

DTSTAMP:20260421T182248Z
DTSTART:20160816T110000Z
DTEND:20160816T235959Z
SEQUENCE:0
TRANSP:OPAQUE
END:VEVENT
END:VCALENDAR