BEGIN:VCALENDAR
VERSION:2.0
PRODID:-//jEvents 1.5 for Joomla//EN
CALSCALE:GREGORIAN
METHOD:PUBLISH
BEGIN:VEVENT

UID:ba7df743a35efe1a3f52e98bece08a9f
CATEGORIES:Default
SUMMARY:Men's Breakfast
LOCATION:
DESCRIPTION;ENCODING=QUOTED-PRINTABLE:

DTSTAMP:20260423T181224Z
DTSTART:20160818T073000Z
DTEND:20160818T083000Z
SEQUENCE:0
TRANSP:OPAQUE
END:VEVENT
END:VCALENDAR