BEGIN:VCALENDAR
VERSION:2.0
PRODID:-//jEvents 1.5 for Joomla//EN
CALSCALE:GREGORIAN
METHOD:PUBLISH
BEGIN:VEVENT

UID:5c9ef9fb25e638a5fa8b6334fac69bd1
CATEGORIES:Default
SUMMARY:Wedding Rehearsal
LOCATION:Watertown
DESCRIPTION;ENCODING=QUOTED-PRINTABLE:

DTSTAMP:20260423T075754Z
DTSTART:20160805T160000Z
DTEND:20160805T235959Z
SEQUENCE:0
TRANSP:OPAQUE
END:VEVENT
END:VCALENDAR