BEGIN:VCALENDAR
VERSION:2.0
PRODID:-//jEvents 1.5 for Joomla//EN
CALSCALE:GREGORIAN
METHOD:PUBLISH
BEGIN:VEVENT

UID:e5a73498e43247a6db26ce9c0744cf0c
CATEGORIES:Default
SUMMARY:Wedding
LOCATION:Watertown
DESCRIPTION;ENCODING=QUOTED-PRINTABLE:
X-EXTRAINFO:Emily Bauer & Skyler Fredrick
DTSTAMP:20260424T075233Z
DTSTART:20160806T160000Z
DTEND:20160806T235959Z
SEQUENCE:0
TRANSP:OPAQUE
END:VEVENT
END:VCALENDAR