BEGIN:VCALENDAR
VERSION:2.0
PRODID:-//jEvents 1.5 for Joomla//EN
CALSCALE:GREGORIAN
METHOD:PUBLISH
BEGIN:VEVENT

UID:84123ddb5d48c2b46f5d98d6edf17c7c
CATEGORIES:Default
SUMMARY:Outdoor Worship with Communion
LOCATION:Indian Creek Campground
DESCRIPTION;ENCODING=QUOTED-PRINTABLE:

DTSTAMP:20260423T002947Z
DTSTART:20160807T103000Z
DTEND:20160807T113000Z
SEQUENCE:0
TRANSP:OPAQUE
END:VEVENT
END:VCALENDAR