BEGIN:VCALENDAR
VERSION:2.0
PRODID:-//jEvents 1.5 for Joomla//EN
CALSCALE:GREGORIAN
METHOD:PUBLISH
BEGIN:VEVENT

UID:f65d1ed196a05d494257b7216a19c68a
CATEGORIES:Default
SUMMARY:Mental Illness/Suicide Support Group
LOCATION:
DESCRIPTION;ENCODING=QUOTED-PRINTABLE:

DTSTAMP:20260421T140516Z
DTSTART:20160925T163000Z
DTEND:20160925T235959Z
SEQUENCE:0
TRANSP:OPAQUE
END:VEVENT
END:VCALENDAR