BEGIN:VCALENDAR
VERSION:2.0
PRODID:-//jEvents 1.5 for Joomla//EN
CALSCALE:GREGORIAN
METHOD:PUBLISH
BEGIN:VEVENT

UID:8625fd24fe160fa3895afe4d6a8da63b
CATEGORIES:Default
SUMMARY:Golden Living Center Communion
LOCATION:
DESCRIPTION;ENCODING=QUOTED-PRINTABLE:

DTSTAMP:20260421T063428Z
DTSTART:20160922T102500Z
DTEND:20160922T235959Z
SEQUENCE:0
RRULE:FREQ=MONTHLY;COUNT=1;INTERVAL=1;BYDAY=+4TH
TRANSP:OPAQUE
END:VEVENT
END:VCALENDAR