BEGIN:VCALENDAR
VERSION:2.0
PRODID:-//jEvents 1.5 for Joomla//EN
CALSCALE:GREGORIAN
METHOD:PUBLISH
BEGIN:VEVENT

UID:1c3962c3e476d7aacef9d285b5a13823
CATEGORIES:Default
SUMMARY:Emerging Ministries Summit Meeting
LOCATION:Pierre
DESCRIPTION;ENCODING=QUOTED-PRINTABLE:

DTSTAMP:20260423T142647Z
DTSTART:20160924T080000Z
DTEND:20160924T235959Z
SEQUENCE:0
TRANSP:OPAQUE
END:VEVENT
END:VCALENDAR