BEGIN:VCALENDAR
VERSION:2.0
PRODID:-//jEvents 1.5 for Joomla//EN
CALSCALE:GREGORIAN
METHOD:PUBLISH
BEGIN:VEVENT

UID:ff0917b41e37b724551ba2e47895b5f3
CATEGORIES:Default
SUMMARY:Wedding
LOCATION:Trail City
DESCRIPTION;ENCODING=QUOTED-PRINTABLE:

DTSTAMP:20260421T195018Z
DTSTART:20160910T160000Z
DTEND:20160910T170000Z
SEQUENCE:0
TRANSP:OPAQUE
END:VEVENT
END:VCALENDAR