BEGIN:VCALENDAR
VERSION:2.0
PRODID:-//jEvents 1.5 for Joomla//EN
CALSCALE:GREGORIAN
METHOD:PUBLISH
BEGIN:VEVENT

UID:8fc6ce0aebd6a33c860017912966de1f
CATEGORIES:Default
SUMMARY:Sacred Conversations on Race
LOCATION:Placerville
DESCRIPTION;ENCODING=QUOTED-PRINTABLE:

DTSTAMP:20260423T112309Z
DTSTART:20161010T080000Z
DTEND:20161010T235959Z
SEQUENCE:0
TRANSP:OPAQUE
END:VEVENT
END:VCALENDAR