BEGIN:VCALENDAR
VERSION:2.0
PRODID:-//jEvents 1.5 for Joomla//EN
CALSCALE:GREGORIAN
METHOD:PUBLISH
BEGIN:VEVENT

UID:33799cfdd401aec76724fc33e3f5cb90
CATEGORIES:Default
SUMMARY:Boundaries Training for Pastors
LOCATION:Placerville
DESCRIPTION;ENCODING=QUOTED-PRINTABLE:

DTSTAMP:20260421T162454Z
DTSTART:20161011T080000Z
DTEND:20161011T235959Z
SEQUENCE:0
TRANSP:OPAQUE
END:VEVENT
END:VCALENDAR