BEGIN:VCALENDAR
VERSION:2.0
PRODID:-//jEvents 1.5 for Joomla//EN
CALSCALE:GREGORIAN
METHOD:PUBLISH
BEGIN:VEVENT

UID:2af4bebcd6a8c169e9aede2d26d1f37c
CATEGORIES:Default
SUMMARY:COM Meeting
LOCATION:Chamberlain
DESCRIPTION;ENCODING=QUOTED-PRINTABLE:

DTSTAMP:20260421T195100Z
DTSTART:20161018T103000Z
DTEND:20161018T235959Z
SEQUENCE:0
TRANSP:OPAQUE
END:VEVENT
END:VCALENDAR