BEGIN:VCALENDAR
VERSION:2.0
PRODID:-//jEvents 1.5 for Joomla//EN
CALSCALE:GREGORIAN
METHOD:PUBLISH
BEGIN:VEVENT

UID:d3c940efa9c524645603fcb97165da83
CATEGORIES:Default
SUMMARY:Golden Living Center Visits
LOCATION:
DESCRIPTION;ENCODING=QUOTED-PRINTABLE:

DTSTAMP:20260420T001053Z
DTSTART:20161102T100000Z
DTEND:20161102T235959Z
SEQUENCE:0
RRULE:FREQ=WEEKLY;COUNT=3;INTERVAL=1;BYDAY=WE
EXDATE:20161116T100000Z
TRANSP:OPAQUE
END:VEVENT
END:VCALENDAR