BEGIN:VCALENDAR
VERSION:2.0
PRODID:-//jEvents 1.5 for Joomla//EN
CALSCALE:GREGORIAN
METHOD:PUBLISH
BEGIN:VEVENT

UID:bffb19a247c059200c3a5faff29b37f8
CATEGORIES:Default
SUMMARY:Worship with Communion
LOCATION:
DESCRIPTION;ENCODING=QUOTED-PRINTABLE:

DTSTAMP:20260420T194354Z
DTSTART:20161106T103000Z
DTEND:20161106T113000Z
SEQUENCE:0
TRANSP:OPAQUE
END:VEVENT
END:VCALENDAR