BEGIN:VCALENDAR
VERSION:2.0
PRODID:-//jEvents 1.5 for Joomla//EN
CALSCALE:GREGORIAN
METHOD:PUBLISH
BEGIN:VEVENT

UID:fd29a5d5728dd5858eeb85882ca399e1
CATEGORIES:Default
SUMMARY:Youth Bible Study
LOCATION:
DESCRIPTION;ENCODING=QUOTED-PRINTABLE:

DTSTAMP:20260425T225547Z
DTSTART:20161116T183000Z
DTEND:20161116T191500Z
SEQUENCE:0
TRANSP:OPAQUE
END:VEVENT
END:VCALENDAR