BEGIN:VCALENDAR
VERSION:2.0
PRODID:-//jEvents 1.5 for Joomla//EN
CALSCALE:GREGORIAN
METHOD:PUBLISH
BEGIN:VEVENT

UID:e245fcb1cfe90c0ff206d9a6f1997c9a
CATEGORIES:Default
SUMMARY:Youth-Thanksgiving Baskets
LOCATION:
DESCRIPTION;ENCODING=QUOTED-PRINTABLE:

DTSTAMP:20260421T152044Z
DTSTART:20161120T113000Z
DTEND:20161120T235959Z
SEQUENCE:0
TRANSP:OPAQUE
END:VEVENT
END:VCALENDAR