BEGIN:VCALENDAR
VERSION:2.0
PRODID:-//jEvents 1.5 for Joomla//EN
CALSCALE:GREGORIAN
METHOD:PUBLISH
BEGIN:VEVENT

UID:f4b631cdab46c560b28004e65578961f
CATEGORIES:Default
SUMMARY:Half Truths Bible Study
LOCATION:
DESCRIPTION;ENCODING=QUOTED-PRINTABLE:

DTSTAMP:20260420T164650Z
DTSTART:20161016T150000Z
DTEND:20161016T235959Z
SEQUENCE:0
RRULE:FREQ=WEEKLY;COUNT=5;INTERVAL=1;BYDAY=SU
TRANSP:OPAQUE
END:VEVENT
END:VCALENDAR