BEGIN:VCALENDAR
VERSION:2.0
PRODID:-//jEvents 1.5 for Joomla//EN
CALSCALE:GREGORIAN
METHOD:PUBLISH
BEGIN:VEVENT

UID:a5336447a664aa7e24d1b45c3ade27d6
CATEGORIES:Default
SUMMARY:Thanksgiving-Office Closed
LOCATION:
DESCRIPTION;ENCODING=QUOTED-PRINTABLE:

DTSTAMP:20260421T064223Z
DTSTART:20161124T080000Z
DTEND:20161124T235959Z
SEQUENCE:0
TRANSP:OPAQUE
END:VEVENT
END:VCALENDAR