BEGIN:VCALENDAR
VERSION:2.0
PRODID:-//jEvents 1.5 for Joomla//EN
CALSCALE:GREGORIAN
METHOD:PUBLISH
BEGIN:VEVENT

UID:8b770839762b6fd34661141434cd36aa
CATEGORIES:Default
SUMMARY:Confirmation
LOCATION:
DESCRIPTION;ENCODING=QUOTED-PRINTABLE:

DTSTAMP:20260420T212724Z
DTSTART:20161204T091500Z
DTEND:20161204T101500Z
SEQUENCE:0
RRULE:FREQ=WEEKLY;COUNT=3;INTERVAL=1;BYDAY=SU
TRANSP:OPAQUE
END:VEVENT
END:VCALENDAR