BEGIN:VCALENDAR
VERSION:2.0
PRODID:-//jEvents 1.5 for Joomla//EN
CALSCALE:GREGORIAN
METHOD:PUBLISH
BEGIN:VEVENT

UID:e3a97d752f85b070704e2561b98ec5a4
CATEGORIES:Default
SUMMARY:Youth Bible Study
LOCATION:
DESCRIPTION;ENCODING=QUOTED-PRINTABLE:

DTSTAMP:20260422T064541Z
DTSTART:20161207T183000Z
DTEND:20161207T191500Z
SEQUENCE:0
TRANSP:OPAQUE
END:VEVENT
END:VCALENDAR