BEGIN:VCALENDAR
VERSION:2.0
PRODID:-//jEvents 1.5 for Joomla//EN
CALSCALE:GREGORIAN
METHOD:PUBLISH
BEGIN:VEVENT

UID:52bfe5e4a95f7de3e2ccaa16658552a2
CATEGORIES:Default
SUMMARY:Board of Trustees Meeting
LOCATION:
DESCRIPTION;ENCODING=QUOTED-PRINTABLE:

DTSTAMP:20260420T071723Z
DTSTART:20161214T200000Z
DTEND:20161214T235959Z
SEQUENCE:0
TRANSP:OPAQUE
END:VEVENT
END:VCALENDAR