BEGIN:VCALENDAR
VERSION:2.0
PRODID:-//jEvents 1.5 for Joomla//EN
CALSCALE:GREGORIAN
METHOD:PUBLISH
BEGIN:VEVENT

UID:ae87b973718b687d0ecc0dc3014082ae
CATEGORIES:Default
SUMMARY:Christmas Eve with Communion Service
LOCATION:
DESCRIPTION;ENCODING=QUOTED-PRINTABLE:

DTSTAMP:20260420T071748Z
DTSTART:20161224T173000Z
DTEND:20161224T183000Z
SEQUENCE:0
TRANSP:OPAQUE
END:VEVENT
END:VCALENDAR