BEGIN:VCALENDAR
VERSION:2.0
PRODID:-//jEvents 1.5 for Joomla//EN
CALSCALE:GREGORIAN
METHOD:PUBLISH
BEGIN:VEVENT

UID:84f18d19034e1d0edca4f22031412c31
CATEGORIES:Default
SUMMARY:Youth Bible Study
LOCATION:
DESCRIPTION;ENCODING=QUOTED-PRINTABLE:

DTSTAMP:20260419T223758Z
DTSTART:20170118T183000Z
DTEND:20170118T191500Z
SEQUENCE:0
TRANSP:OPAQUE
END:VEVENT
END:VCALENDAR