BEGIN:VCALENDAR
VERSION:2.0
PRODID:-//jEvents 1.5 for Joomla//EN
CALSCALE:GREGORIAN
METHOD:PUBLISH
BEGIN:VEVENT

UID:c56cf7eaab9618ede89cc6eb15ef640d
CATEGORIES:Default
SUMMARY:Men's Breakfast
LOCATION:
DESCRIPTION;ENCODING=QUOTED-PRINTABLE:

DTSTAMP:20260420T164645Z
DTSTART:20170119T073000Z
DTEND:20170119T080000Z
SEQUENCE:0
TRANSP:OPAQUE
END:VEVENT
END:VCALENDAR