BEGIN:VCALENDAR
VERSION:2.0
PRODID:-//jEvents 1.5 for Joomla//EN
CALSCALE:GREGORIAN
METHOD:PUBLISH
BEGIN:VEVENT

UID:bdeb2c53929a949a82bec1cc268d79ed
CATEGORIES:Default
SUMMARY:COM Meeting
LOCATION:Chamberlain
DESCRIPTION;ENCODING=QUOTED-PRINTABLE:

DTSTAMP:20260420T095706Z
DTSTART:20170207T110000Z
DTEND:20170207T235959Z
SEQUENCE:0
TRANSP:OPAQUE
END:VEVENT
END:VCALENDAR