BEGIN:VCALENDAR
VERSION:2.0
PRODID:-//jEvents 1.5 for Joomla//EN
CALSCALE:GREGORIAN
METHOD:PUBLISH
BEGIN:VEVENT

UID:f78aa0b051fd8e74c85c1fd37af230d6
CATEGORIES:Default
SUMMARY:Sunday School
LOCATION:
DESCRIPTION;ENCODING=QUOTED-PRINTABLE:

DTSTAMP:20260421T041654Z
DTSTART:20170305T093000Z
DTEND:20170305T102500Z
SEQUENCE:0
RRULE:FREQ=WEEKLY;COUNT=6;INTERVAL=1;BYDAY=SU
TRANSP:OPAQUE
END:VEVENT
END:VCALENDAR