BEGIN:VCALENDAR
VERSION:2.0
PRODID:-//jEvents 1.5 for Joomla//EN
CALSCALE:GREGORIAN
METHOD:PUBLISH
BEGIN:VEVENT

UID:113226748b00577f26b4ecef7ce00c30
CATEGORIES:Default
SUMMARY:Lenten Bible Study
LOCATION:
DESCRIPTION;ENCODING=QUOTED-PRINTABLE:

DTSTAMP:20260421T011354Z
DTSTART:20170308T183000Z
DTEND:20170308T190000Z
SEQUENCE:0
RRULE:FREQ=WEEKLY;COUNT=6;INTERVAL=1;BYDAY=WE
EXDATE:20170412T183000Z
TRANSP:OPAQUE
END:VEVENT
END:VCALENDAR