BEGIN:VCALENDAR
VERSION:2.0
PRODID:-//jEvents 1.5 for Joomla//EN
CALSCALE:GREGORIAN
METHOD:PUBLISH
BEGIN:VEVENT

UID:4556aea3a7a477eb2b87853bfe08e9c0
CATEGORIES:Default
SUMMARY:Mobridge Care & Rehabilitation Center Communion
LOCATION:
DESCRIPTION;ENCODING=QUOTED-PRINTABLE:

DTSTAMP:20260421T213650Z
DTSTART:20170323T102500Z
DTEND:20170323T110000Z
SEQUENCE:0
TRANSP:OPAQUE
END:VEVENT
END:VCALENDAR