BEGIN:VCALENDAR
VERSION:2.0
PRODID:-//jEvents 1.5 for Joomla//EN
CALSCALE:GREGORIAN
METHOD:PUBLISH
BEGIN:VEVENT

UID:a43c22c68ae6fdc2e9d4d554bafd004a
CATEGORIES:Default
SUMMARY:Loaded Baked Potato Dinner Fund Raiser
LOCATION:
DESCRIPTION;ENCODING=QUOTED-PRINTABLE:

DTSTAMP:20260421T163401Z
DTSTART:20170326T173000Z
DTEND:20170326T193000Z
SEQUENCE:0
TRANSP:OPAQUE
END:VEVENT
END:VCALENDAR