BEGIN:VCALENDAR
VERSION:2.0
PRODID:-//jEvents 1.5 for Joomla//EN
CALSCALE:GREGORIAN
METHOD:PUBLISH
BEGIN:VEVENT

UID:ab7246f797743738a3dd24006e25845a
CATEGORIES:Default
SUMMARY:Youth Bible Study
LOCATION:
DESCRIPTION;ENCODING=QUOTED-PRINTABLE:

DTSTAMP:20260421T183139Z
DTSTART:20170426T183000Z
DTEND:20170426T191500Z
SEQUENCE:0
TRANSP:OPAQUE
END:VEVENT
END:VCALENDAR