BEGIN:VCALENDAR
VERSION:2.0
PRODID:-//jEvents 1.5 for Joomla//EN
CALSCALE:GREGORIAN
METHOD:PUBLISH
BEGIN:VEVENT

UID:0a903abf7cc6f05ad072eefd28d4f6fc
CATEGORIES:Default
SUMMARY:MISYA Walk
LOCATION:Starting at Mobridge-Pollock High School
DESCRIPTION;ENCODING=QUOTED-PRINTABLE:
CONTACT:Pastor Keith Kraft-845-2931
X-EXTRAINFO:9:00 Walk will begin10:00 Brunch and Round table discussion on Mental Illne
 ss/Suicide awarenessAll are invited.  Come for some or entire event
DTSTAMP:20260423T003134Z
DTSTART:20170422T090000Z
DTEND:20170422T120000Z
SEQUENCE:0
TRANSP:OPAQUE
END:VEVENT
END:VCALENDAR