BEGIN:VCALENDAR
VERSION:2.0
PRODID:-//jEvents 1.5 for Joomla//EN
CALSCALE:GREGORIAN
METHOD:PUBLISH
BEGIN:VEVENT

UID:2bc24c309b35d4e093b0f2ca0de4a984
CATEGORIES:Default
SUMMARY:COM Meeting
LOCATION:Miller
DESCRIPTION;ENCODING=QUOTED-PRINTABLE:

DTSTAMP:20260421T182313Z
DTSTART:20170501T110000Z
DTEND:20170501T235959Z
SEQUENCE:0
RRULE:FREQ=DAILY;COUNT=2;INTERVAL=1
TRANSP:OPAQUE
END:VEVENT
END:VCALENDAR