BEGIN:VCALENDAR
VERSION:2.0
PRODID:-//jEvents 1.5 for Joomla//EN
CALSCALE:GREGORIAN
METHOD:PUBLISH
BEGIN:VEVENT

UID:ebce7a90fa355a7c30535b20b9824318
CATEGORIES:Default
SUMMARY:Baccalaurete
LOCATION:Trinity Lutheran
DESCRIPTION;ENCODING=QUOTED-PRINTABLE:

DTSTAMP:20260422T014919Z
DTSTART:20170507T190000Z
DTEND:20170507T235959Z
SEQUENCE:0
TRANSP:OPAQUE
END:VEVENT
END:VCALENDAR