BEGIN:VCALENDAR
VERSION:2.0
PRODID:-//jEvents 1.5 for Joomla//EN
CALSCALE:GREGORIAN
METHOD:PUBLISH
BEGIN:VEVENT

UID:ed2b902aba75b2905e1bcb08720ed618
CATEGORIES:Default
SUMMARY:Graduation
LOCATION:Mobridge-Pollock HS
DESCRIPTION;ENCODING=QUOTED-PRINTABLE:

DTSTAMP:20260421T210213Z
DTSTART:20170514T140000Z
DTEND:20170514T235959Z
SEQUENCE:0
TRANSP:OPAQUE
END:VEVENT
END:VCALENDAR