BEGIN:VCALENDAR
VERSION:2.0
PRODID:-//jEvents 1.5 for Joomla//EN
CALSCALE:GREGORIAN
METHOD:PUBLISH
BEGIN:VEVENT

UID:c559ea9173ebf1779867fd3d480bf199
CATEGORIES:Default
SUMMARY:Women of the Church Spring Supper
LOCATION:
DESCRIPTION;ENCODING=QUOTED-PRINTABLE:
X-EXTRAINFO:Speaker Lori Unterseher
DTSTAMP:20260421T003545Z
DTSTART:20170503T183000Z
DTEND:20170503T235959Z
SEQUENCE:0
TRANSP:OPAQUE
END:VEVENT
END:VCALENDAR