BEGIN:VCALENDAR
VERSION:2.0
PRODID:-//jEvents 1.5 for Joomla//EN
CALSCALE:GREGORIAN
METHOD:PUBLISH
BEGIN:VEVENT

UID:3dbb07c3c2a903f437af41ab75e003de
CATEGORIES:Default
SUMMARY:Mobridge Care & Rehabilitation Center Communion
LOCATION:
DESCRIPTION;ENCODING=QUOTED-PRINTABLE:

DTSTAMP:20260421T072709Z
DTSTART:20170525T102500Z
DTEND:20170525T235959Z
SEQUENCE:0
TRANSP:OPAQUE
END:VEVENT
END:VCALENDAR