BEGIN:VCALENDAR
VERSION:2.0
PRODID:-//jEvents 1.5 for Joomla//EN
CALSCALE:GREGORIAN
METHOD:PUBLISH
BEGIN:VEVENT

UID:4e65cdd8c203f561231b6630c08f98ee
CATEGORIES:Default
SUMMARY:Harold Permann Memorial Service
LOCATION:Sturgis
DESCRIPTION;ENCODING=QUOTED-PRINTABLE:

DTSTAMP:20260424T100738Z
DTSTART:20170519T080000Z
DTEND:20170519T235959Z
SEQUENCE:0
TRANSP:OPAQUE
END:VEVENT
END:VCALENDAR