BEGIN:VCALENDAR
VERSION:2.0
PRODID:-//jEvents 1.5 for Joomla//EN
CALSCALE:GREGORIAN
METHOD:PUBLISH
BEGIN:VEVENT

UID:c017813004d70b3c0638379a6c2c54e1
CATEGORIES:Default
SUMMARY:Youth Mission Trip
LOCATION:
DESCRIPTION;ENCODING=QUOTED-PRINTABLE:

DTSTAMP:20260423T072108Z
DTSTART:20170608T080000Z
DTEND:20170608T235959Z
SEQUENCE:0
RRULE:FREQ=DAILY;COUNT=1;INTERVAL=3
TRANSP:OPAQUE
END:VEVENT
END:VCALENDAR