BEGIN:VCALENDAR
VERSION:2.0
PRODID:-//jEvents 1.5 for Joomla//EN
CALSCALE:GREGORIAN
METHOD:PUBLISH
BEGIN:VEVENT

UID:6a8b9f3441d6469f2d98d6b6e67e4bf4
CATEGORIES:Default
SUMMARY:Youth Mission Trip
LOCATION:
DESCRIPTION;ENCODING=QUOTED-PRINTABLE:

DTSTAMP:20260425T200353Z
DTSTART:20170609T080000Z
DTEND:20170609T235959Z
SEQUENCE:0
RRULE:FREQ=DAILY;COUNT=2;INTERVAL=1
TRANSP:OPAQUE
END:VEVENT
END:VCALENDAR