BEGIN:VCALENDAR
VERSION:2.0
PRODID:-//jEvents 1.5 for Joomla//EN
CALSCALE:GREGORIAN
METHOD:PUBLISH
BEGIN:VEVENT

UID:846536464ae9ef54ca397d2c76c6d33e
CATEGORIES:Default
SUMMARY:Pastor Keith gone
LOCATION:
DESCRIPTION;ENCODING=QUOTED-PRINTABLE:

DTSTAMP:20260422T041230Z
DTSTART:20170615T080000Z
DTEND:20170615T235959Z
SEQUENCE:0
RRULE:FREQ=DAILY;COUNT=3;INTERVAL=1
TRANSP:OPAQUE
END:VEVENT
END:VCALENDAR