BEGIN:VCALENDAR
VERSION:2.0
PRODID:-//jEvents 1.5 for Joomla//EN
CALSCALE:GREGORIAN
METHOD:PUBLISH
BEGIN:VEVENT

UID:9d82b284a5fd6346844801ac1b8b4e20
CATEGORIES:Default
SUMMARY:Wedding Rehearsal
LOCATION:Sylvan Lake
DESCRIPTION;ENCODING=QUOTED-PRINTABLE:

DTSTAMP:20260423T080952Z
DTSTART:20170623T150000Z
DTEND:20170623T235959Z
SEQUENCE:0
TRANSP:OPAQUE
END:VEVENT
END:VCALENDAR