BEGIN:VCALENDAR
VERSION:2.0
PRODID:-//jEvents 1.5 for Joomla//EN
CALSCALE:GREGORIAN
METHOD:PUBLISH
BEGIN:VEVENT

UID:a73327b3c5aff2490ff034ce8d58a883
CATEGORIES:Default
SUMMARY:Wedding
LOCATION:Sylvan Lake
DESCRIPTION;ENCODING=QUOTED-PRINTABLE:
X-EXTRAINFO:Brianna Hatch & Travis Brezden
DTSTAMP:20260423T184159Z
DTSTART:20170624T160000Z
DTEND:20170624T235959Z
SEQUENCE:0
TRANSP:OPAQUE
END:VEVENT
END:VCALENDAR