BEGIN:VCALENDAR
VERSION:2.0
PRODID:-//jEvents 1.5 for Joomla//EN
CALSCALE:GREGORIAN
METHOD:PUBLISH
BEGIN:VEVENT

UID:9f0313c75454ce804276582bc3d357fe
CATEGORIES:Default
SUMMARY:Wedding Rehearsal
LOCATION:Omaha
DESCRIPTION;ENCODING=QUOTED-PRINTABLE:

DTSTAMP:20260421T191832Z
DTSTART:20170630T160000Z
DTEND:20170630T235959Z
SEQUENCE:0
TRANSP:OPAQUE
END:VEVENT
END:VCALENDAR