BEGIN:VCALENDAR
VERSION:2.0
PRODID:-//jEvents 1.5 for Joomla//EN
CALSCALE:GREGORIAN
METHOD:PUBLISH
BEGIN:VEVENT

UID:118fb02a411e285064177b9cc0a0b35c
CATEGORIES:Default
SUMMARY:Wedding
LOCATION:Omaha
DESCRIPTION;ENCODING=QUOTED-PRINTABLE:
X-EXTRAINFO:Alonna Griewski
DTSTAMP:20260423T212644Z
DTSTART:20170701T180000Z
DTEND:20170701T235959Z
SEQUENCE:0
TRANSP:OPAQUE
END:VEVENT
END:VCALENDAR