BEGIN:VCALENDAR
VERSION:2.0
PRODID:-//jEvents 1.5 for Joomla//EN
CALSCALE:GREGORIAN
METHOD:PUBLISH
BEGIN:VEVENT

UID:7db48c4ba5e39a43cdd1fa5d9a4d205d
CATEGORIES:Default
SUMMARY:General Synod
LOCATION:Baltimore
DESCRIPTION;ENCODING=QUOTED-PRINTABLE:

DTSTAMP:20260423T033535Z
DTSTART:20170702T080000Z
DTEND:20170702T235959Z
SEQUENCE:0
RRULE:FREQ=DAILY;COUNT=5;INTERVAL=1
TRANSP:OPAQUE
END:VEVENT
END:VCALENDAR